BEGIN:VCALENDAR
VERSION:2.0
PRODID:-//Brasstown Valley Resort &amp; Spa - ECPv6.15.20//NONSGML v1.0//EN
CALSCALE:GREGORIAN
METHOD:PUBLISH
X-WR-CALNAME:Brasstown Valley Resort &amp; Spa
X-ORIGINAL-URL:https://brasstownvalley.com
X-WR-CALDESC:Events for Brasstown Valley Resort &amp; Spa
REFRESH-INTERVAL;VALUE=DURATION:PT1H
X-Robots-Tag:noindex
X-PUBLISHED-TTL:PT1H
BEGIN:VTIMEZONE
TZID:UTC
BEGIN:STANDARD
TZOFFSETFROM:+0000
TZOFFSETTO:+0000
TZNAME:UTC
DTSTART:20250101T000000
END:STANDARD
END:VTIMEZONE
BEGIN:VEVENT
DTSTART;TZID=UTC:20260123T183000
DTEND;TZID=UTC:20260123T210000
DTSTAMP:20260424T134738
CREATED:20260113T161312Z
LAST-MODIFIED:20260113T161312Z
UID:10000853-1769193000-1769202000@brasstownvalley.com
SUMMARY:Special Italian Dinner
DESCRIPTION:Join us on January 23rd\, At Creekside Pavilion for a Special Italian Dinner! The $54++ \nStarts at 6:30PM \nContact Carrie to RSVP at 706-379-4657 or cschlarb@brasstownvalley.com \nClick here to see the menu Italian Dinner Menu
URL:https://brasstownvalley.com/event/special-italian-dinner/
LOCATION:Creekside Pavilion\, 6321 US Hwy 76\, Young Harris\, GA\, 30582\, United States
ORGANIZER;CN="Carrie Schlarb":MAILTO:cschlarb@brasstownvalley.com
END:VEVENT
END:VCALENDAR