BEGIN:VCALENDAR
VERSION:2.0
PRODID:-//Brasstown Valley Resort &amp; Spa - ECPv6.15.20//NONSGML v1.0//EN
CALSCALE:GREGORIAN
METHOD:PUBLISH
X-WR-CALNAME:Brasstown Valley Resort &amp; Spa
X-ORIGINAL-URL:https://brasstownvalley.com
X-WR-CALDESC:Events for Brasstown Valley Resort &amp; Spa
REFRESH-INTERVAL;VALUE=DURATION:PT1H
X-Robots-Tag:noindex
X-PUBLISHED-TTL:PT1H
BEGIN:VTIMEZONE
TZID:UTC
BEGIN:STANDARD
TZOFFSETFROM:+0000
TZOFFSETTO:+0000
TZNAME:UTC
DTSTART:20250101T000000
END:STANDARD
END:VTIMEZONE
BEGIN:VEVENT
DTSTART;TZID=UTC:20260510T103000
DTEND;TZID=UTC:20260510T150000
DTSTAMP:20260424T062020
CREATED:20260227T173014Z
LAST-MODIFIED:20260227T173014Z
UID:10000857-1778409000-1778425200@brasstownvalley.com
SUMMARY:Mother's Day Brunch
DESCRIPTION:JOIN US FOR MOTHER’S DAY BRUNCH\nCelebrate Mom by joining us for our Mother’s Day Brunch \nMay 10th from 11:30AM-3:00PM \nAdults $60.00  \nChildren 6 thru 12 $29.95  \nChildren 5 and under $10.95 \nReservations required for this event\, \nClick here to make reservations: Resy.com\, \nClick here to see the Mother’s Day Brunch Buffet
URL:https://brasstownvalley.com/event/mothers-day-brunch/
LOCATION:Dining Room\, 6321 US Hwy 76\, Young Harris\, GA\, 30582\, United States
ORGANIZER;CN="Shana Walton":MAILTO:swalton@brasstownvalley.com
END:VEVENT
END:VCALENDAR